BEGIN:VCALENDAR
VERSION:2.0
PRODID:-//Dino Wurtinger - ECPv6.15.18//NONSGML v1.0//EN
CALSCALE:GREGORIAN
METHOD:PUBLISH
X-WR-CALNAME:Dino Wurtinger
X-ORIGINAL-URL:https://wurtinger.com
X-WR-CALDESC:Veranstaltungen für Dino Wurtinger
REFRESH-INTERVAL;VALUE=DURATION:PT1H
X-Robots-Tag:noindex
X-PUBLISHED-TTL:PT1H
BEGIN:VTIMEZONE
TZID:UTC
BEGIN:STANDARD
TZOFFSETFROM:+0000
TZOFFSETTO:+0000
TZNAME:UTC
DTSTART:20250101T000000
END:STANDARD
END:VTIMEZONE
BEGIN:VEVENT
DTSTART;TZID=UTC:20260424T200000
DTEND;TZID=UTC:20260424T233000
DTSTAMP:20260422T130043
CREATED:20260420T205916Z
LAST-MODIFIED:20260420T210018Z
UID:3332-1777060800-1777073400@wurtinger.com
SUMMARY:Nashville Bluebirds // Pullman City Bayern
DESCRIPTION:COUNTRY MUSIK VOM FEINSTEN \nDieses Wochenende dreht sich in der Westernstadt alles rund um das Thema Country Musik! Während es tagsüber unsere Shows zu bestaunen gibt\, kann man abends gemütlich beste Live Musik zuhören. \nKinder können unvergessliche Abenteuer auf unseren Spielplätzenerleben und haben zudem Spaß beim Basteln und Malen im Kids Club. \nGeige\, Banjo\, Steel-Guitar und Kontrabass verleihen dem Sound der Band ihren unverwechselbaren Charakter. Dazu kommen Bass\, Schlagzeug\, Gitrarren\, Klavier und Keyboard – alles\, um Sängerin und Sänger perfekt zu begleiten. \nSieben Musiker:innen\, die perfekt harmonieren und mit Leidenschaft spielen. \nAb dem ersten Ton entsteht dieses besondere Feeling\, das alle Freunde der Country Music lieben. \nDie Nashville Bluebirds bringen es mit jedem Song rüber – energiegeladen\, authentisch und voller Nashville-Spirit!
URL:https://wurtinger.com/event/nashville-bluebirds-pullman-city-bayern/
ATTACH;FMTTYPE=image/png:https://wurtinger.com/wp-content/uploads/2026/04/Bildschirmfoto-2026-04-20-um-22.58.06.png
END:VEVENT
BEGIN:VEVENT
DTSTART;TZID=UTC:20260426T000000
DTEND;TZID=UTC:20260426T170000
DTSTAMP:20260422T130043
CREATED:20260117T095506Z
LAST-MODIFIED:20260326T171411Z
UID:2257-1777161600-1777222800@wurtinger.com
SUMMARY:Nashvillebluebirds // Hammerranch Frankfurt
DESCRIPTION:Gelände der Hammer Ranch\, Ende der Gwinnerstraße (In der Sauren Wiese) 60389 Frankfurt am Main \nAm 26.04.2026 werden die Nashvillebluebirds den Saisonststart der Hammer Ranch der Countryfreunde Rhein-Main e.V. eröffnen.\nCountry Music\, Essen&Trinken sowie Linedance Workshops werden angeboten. \nWir freuen uns sehr mit euch in den Frühling zu tanzen. \n  \nHowdy\, \n  \neure Bluebirds
URL:https://wurtinger.com/event/nashvillebluebirds-hammerranch-frankfurt/
ATTACH;FMTTYPE=image/jpeg:https://wurtinger.com/wp-content/uploads/2025/03/SAVE_20250309_135620.jpg
END:VEVENT
BEGIN:VEVENT
DTSTART;VALUE=DATE:20260523
DTEND;VALUE=DATE:20260524
DTSTAMP:20260422T130043
CREATED:20260402T194628Z
LAST-MODIFIED:20260402T200750Z
UID:2440-1779494400-1779580799@wurtinger.com
SUMMARY:Nashville Bluebirds // Freizeitreiter Hintersteinau
DESCRIPTION:Das zweite Jahr in Folge – Das Fest für die ganze Familie
URL:https://wurtinger.com/event/nashville-bluebirds-freizeitreiter-hintersteinau/
ATTACH;FMTTYPE=image/png:https://wurtinger.com/wp-content/uploads/2026/04/Bildschirmfoto-2026-04-02-um-21.42.06.png
END:VEVENT
BEGIN:VEVENT
DTSTART;TZID=UTC:20260525T080000
DTEND;TZID=UTC:20260525T170000
DTSTAMP:20260422T130043
CREATED:20260222T083243Z
LAST-MODIFIED:20260326T171332Z
UID:2322-1779696000-1779728400@wurtinger.com
SUMMARY:Pfingsmusiktage // Lauterbach
DESCRIPTION:Berthold Möller\, Annette Schulz\, Caroline Henningson und Dino Wurtinger spielen an den Pfingstmusiktagen in Lauterbach – weitere Infos folgen
URL:https://wurtinger.com/event/pfingsmusiktage-schulz-moeller-hennigsen/
ATTACH;FMTTYPE=image/jpeg:https://wurtinger.com/wp-content/uploads/2026/02/WhatsApp-Image-2025-05-13-at-20.35.42.jpeg
END:VEVENT
BEGIN:VEVENT
DTSTART;TZID=UTC:20260607T120000
DTEND;TZID=UTC:20260607T150000
DTSTAMP:20260422T130043
CREATED:20260402T195939Z
LAST-MODIFIED:20260402T200023Z
UID:2443-1780833600-1780844400@wurtinger.com
SUMMARY:Dixie Cobbers // Fuldaer Hof
DESCRIPTION:Mit Trompete\, Kontrabass und Gitarre im Gepäck setzen die Cobbers ihre Hüte auf\, steigen auf die Schultern von Louis Armstrong und King Oliver und bringen den Sound der Straßen New Orleans überall dort hin\, wo sie gerade gebraucht werden. Mal rein Instrumental oder mit einem Lied auf den Lippen vertreiben sie den Alltagsblues genauso schnell wie ein gut gefüllter Gumbo Topf.
URL:https://wurtinger.com/event/dixie-cobbers-fuldaer-hof/
LOCATION:Fuldaer Hof\, Am Ried 13\, Fulda\, Hessen\, 36041\, Deutschland
ATTACH;FMTTYPE=image/jpeg:https://wurtinger.com/wp-content/uploads/2026/04/gemini-2.5-flash-image_please_remove_the_text_A_Night_of_Improvisation_Rhythm-0.jpg
END:VEVENT
BEGIN:VEVENT
DTSTART;TZID=UTC:20260617T150000
DTEND;TZID=UTC:20260617T170000
DTSTAMP:20260422T130043
CREATED:20260222T082723Z
LAST-MODIFIED:20260326T171230Z
UID:2318-1781708400-1781715600@wurtinger.com
SUMMARY:Envie' Creative - Jazz\, Pop\, träumen // Hessentag Fulda
DESCRIPTION:Envie Creative im Weindorf – Hessentag Fulda \nEnvie Creative sind die Sängerin Judith Erb\, der Gitarrist Dino Wurtinger und der Bassist Janni Schmidt. In dieser Trio-Besetzung verschmelzen Stimme\, Gitarre und Bass zu einem warmen Klang\, der Raum zum Zuhören und Träumen lässt. \nDas Repertoire verbindet Swing\, lateinamerikanische Einflüsse und ausgewählte Popsongs von Sting bis Fleetwood Mac zu einer stilvollen Mischung. Durch die intime Besetzung erhalten die Stücke dabei eine ganz persönliche und feine Note. \nEnvie Creative schaffen einen Konzertabend\, der zum Innehalten einlädt – für alle\, die handgemachte Musik lieben und besondere musikalische Momente schätzen.
URL:https://wurtinger.com/event/envie-creative-jazz-pop-traeumen-hessentag-fulda/
LOCATION:Fulda\, Weindorf Hessentag\, Fulda
ATTACH;FMTTYPE=image/jpeg:https://wurtinger.com/wp-content/uploads/2026/02/WhatsApp-Image-2026-02-19-at-18.23.23.jpeg
END:VEVENT
END:VCALENDAR